BEGIN:VCALENDAR
VERSION:2.0
PRODID:-//Common Stock Warrants - ECPv6.0.9//NONSGML v1.0//EN
CALSCALE:GREGORIAN
METHOD:PUBLISH
X-ORIGINAL-URL:https://commonstockwarrants.com
X-WR-CALDESC:Events for Common Stock Warrants
REFRESH-INTERVAL;VALUE=DURATION:PT1H
X-Robots-Tag:noindex
X-PUBLISHED-TTL:PT1H
BEGIN:VTIMEZONE
TZID:America/Denver
BEGIN:DAYLIGHT
TZOFFSETFROM:-0700
TZOFFSETTO:-0600
TZNAME:MDT
DTSTART:20210314T090000
END:DAYLIGHT
BEGIN:STANDARD
TZOFFSETFROM:-0600
TZOFFSETTO:-0700
TZNAME:MST
DTSTART:20211107T080000
END:STANDARD
END:VTIMEZONE
BEGIN:VEVENT
DTSTART;TZID=America/Denver:20210331T070000
DTEND;TZID=America/Denver:20210331T080000
DTSTAMP:20260421T042225
CREATED:20210330T024623Z
LAST-MODIFIED:20210331T134811Z
UID:689099-1617174000-1617177600@commonstockwarrants.com
SUMMARY:Morning Coffee
DESCRIPTION:Pre-Market Review of the SPAC Warrant Index and Market conditions for the day. General Commentary while drinking coffee. \nHosted by: Jeff Baker
URL:https://commonstockwarrants.com/event/morning-coffee/
LOCATION:Common Stock Warrants\, United States
CATEGORIES:Morning Coffee
ATTACH;FMTTYPE=image/jpeg:https://commonstockwarrants.com/wp-content/uploads/2020/12/backgroundSubsNews.jpg
END:VEVENT
BEGIN:VEVENT
DTSTART;TZID=America/Denver:20210331T080000
DTEND;TZID=America/Denver:20210331T080000
DTSTAMP:20260421T042225
CREATED:20210331T134434Z
LAST-MODIFIED:20210331T134436Z
UID:690425-1617177600-1617177600@commonstockwarrants.com
SUMMARY:SPAC DAILY UPDATE
DESCRIPTION:LATN business combination with ProcapsARKEU filed S-1 for 300 million IPOCHAB.U filed S-1 for 250 million IPOCRSA filed PRER14A for LiveVox deal\, no meeting date setTSIA filed S-4/A for Latch deal\, no meeting date setSBG filed S-4 for Owlet deal\, no meeting date setFRX filed S-4/A for Beachbody deal\, no meeting date setBFT / Paysafe closed\, trading as PSFECGRO deal voteKURIU split
URL:https://commonstockwarrants.com/event/spac-daily-update-3/
CATEGORIES:Daily Updates
ATTACH;FMTTYPE=image/jpeg:https://commonstockwarrants.com/wp-content/uploads/2020/09/88214333_10219699380052621_7328582282908794880_o.jpg
END:VEVENT
END:VCALENDAR