BEGIN:VCALENDAR
VERSION:2.0
PRODID:-//Common Stock Warrants - ECPv6.0.9//NONSGML v1.0//EN
CALSCALE:GREGORIAN
METHOD:PUBLISH
X-ORIGINAL-URL:https://commonstockwarrants.com
X-WR-CALDESC:Events for Common Stock Warrants
REFRESH-INTERVAL;VALUE=DURATION:PT1H
X-Robots-Tag:noindex
X-PUBLISHED-TTL:PT1H
BEGIN:VTIMEZONE
TZID:America/Denver
BEGIN:DAYLIGHT
TZOFFSETFROM:-0700
TZOFFSETTO:-0600
TZNAME:MDT
DTSTART:20230312T090000
END:DAYLIGHT
BEGIN:STANDARD
TZOFFSETFROM:-0600
TZOFFSETTO:-0700
TZNAME:MST
DTSTART:20231105T080000
END:STANDARD
END:VTIMEZONE
BEGIN:VEVENT
DTSTART;TZID=America/Denver:20230507T180000
DTEND;TZID=America/Denver:20230507T190000
DTSTAMP:20260424T163200
CREATED:20210331T000434Z
LAST-MODIFIED:20210331T000434Z
UID:690776-1683482400-1683486000@commonstockwarrants.com
SUMMARY:SPAC Warrant Portfolio Review
DESCRIPTION:The weekly review of the SPAC Warrant Portfolio with Jeff Baker  \n\n\n\n(available with access to the SPAC Warrant Index)
URL:https://commonstockwarrants.com/event/spac-warrant-portfolio-review-2023-05-07/
CATEGORIES:SPAC Portfolio Review
ATTACH;FMTTYPE=image/png:https://commonstockwarrants.com/wp-content/uploads/2020/09/feature12.png
END:VEVENT
BEGIN:VEVENT
DTSTART;TZID=America/Denver:20230508T070000
DTEND;TZID=America/Denver:20230508T080000
DTSTAMP:20260424T163200
CREATED:20210330T024623Z
LAST-MODIFIED:20210330T024623Z
UID:690800-1683529200-1683532800@commonstockwarrants.com
SUMMARY:Morning Coffee
DESCRIPTION:Pre-Market Review of the SPAC Warrant Index and Market conditions for the day. General Commentary while drinking coffee. \nHosted by: Jeff Baker
URL:https://commonstockwarrants.com/event/morning-coffee-2023-05-08/
LOCATION:Common Stock Warrants\, United States
CATEGORIES:Morning Coffee
ATTACH;FMTTYPE=image/jpeg:https://commonstockwarrants.com/wp-content/uploads/2020/12/backgroundSubsNews.jpg
END:VEVENT
BEGIN:VEVENT
DTSTART;TZID=America/Denver:20230509T070000
DTEND;TZID=America/Denver:20230509T080000
DTSTAMP:20260424T163200
CREATED:20210330T024623Z
LAST-MODIFIED:20210330T024623Z
UID:690805-1683615600-1683619200@commonstockwarrants.com
SUMMARY:Morning Coffee
DESCRIPTION:Pre-Market Review of the SPAC Warrant Index and Market conditions for the day. General Commentary while drinking coffee. \nHosted by: Jeff Baker
URL:https://commonstockwarrants.com/event/morning-coffee-2023-05-09/
LOCATION:Common Stock Warrants\, United States
CATEGORIES:Morning Coffee
ATTACH;FMTTYPE=image/jpeg:https://commonstockwarrants.com/wp-content/uploads/2020/12/backgroundSubsNews.jpg
END:VEVENT
BEGIN:VEVENT
DTSTART;TZID=America/Denver:20230510T070000
DTEND;TZID=America/Denver:20230510T080000
DTSTAMP:20260424T163200
CREATED:20210330T024623Z
LAST-MODIFIED:20210330T024623Z
UID:690807-1683702000-1683705600@commonstockwarrants.com
SUMMARY:Morning Coffee
DESCRIPTION:Pre-Market Review of the SPAC Warrant Index and Market conditions for the day. General Commentary while drinking coffee. \nHosted by: Jeff Baker
URL:https://commonstockwarrants.com/event/morning-coffee-2023-05-10/
LOCATION:Common Stock Warrants\, United States
CATEGORIES:Morning Coffee
ATTACH;FMTTYPE=image/jpeg:https://commonstockwarrants.com/wp-content/uploads/2020/12/backgroundSubsNews.jpg
END:VEVENT
BEGIN:VEVENT
DTSTART;TZID=America/Denver:20230511T070000
DTEND;TZID=America/Denver:20230511T080000
DTSTAMP:20260424T163200
CREATED:20210330T024623Z
LAST-MODIFIED:20210330T024623Z
UID:690810-1683788400-1683792000@commonstockwarrants.com
SUMMARY:Morning Coffee
DESCRIPTION:Pre-Market Review of the SPAC Warrant Index and Market conditions for the day. General Commentary while drinking coffee. \nHosted by: Jeff Baker
URL:https://commonstockwarrants.com/event/morning-coffee-2023-05-11/
LOCATION:Common Stock Warrants\, United States
CATEGORIES:Morning Coffee
ATTACH;FMTTYPE=image/jpeg:https://commonstockwarrants.com/wp-content/uploads/2020/12/backgroundSubsNews.jpg
END:VEVENT
BEGIN:VEVENT
DTSTART;TZID=America/Denver:20230511T190000
DTEND;TZID=America/Denver:20230511T193000
DTSTAMP:20260424T163200
CREATED:20210330T235609Z
LAST-MODIFIED:20210330T235609Z
UID:690811-1683831600-1683833400@commonstockwarrants.com
SUMMARY:A Look Over My Shoulder -  Dudley's Portfolio
DESCRIPTION:Dudley Baker’s review of items of interest\, warrants\, mining\, and potential great opportunities. This is part of the Gold Members Subscription. Please follow the link below.
URL:https://commonstockwarrants.com/event/a-look-over-my-shoulder-dudleys-portfolio-2023-05-11/
CATEGORIES:Dudley's Portfolio
ATTACH;FMTTYPE=image/jpeg:https://commonstockwarrants.com/wp-content/uploads/2020/09/feature03-scaled.jpg
END:VEVENT
BEGIN:VEVENT
DTSTART;TZID=America/Denver:20230512T070000
DTEND;TZID=America/Denver:20230512T080000
DTSTAMP:20260424T163200
CREATED:20210330T024623Z
LAST-MODIFIED:20210330T024623Z
UID:690812-1683874800-1683878400@commonstockwarrants.com
SUMMARY:Morning Coffee
DESCRIPTION:Pre-Market Review of the SPAC Warrant Index and Market conditions for the day. General Commentary while drinking coffee. \nHosted by: Jeff Baker
URL:https://commonstockwarrants.com/event/morning-coffee-2023-05-12/
LOCATION:Common Stock Warrants\, United States
CATEGORIES:Morning Coffee
ATTACH;FMTTYPE=image/jpeg:https://commonstockwarrants.com/wp-content/uploads/2020/12/backgroundSubsNews.jpg
END:VEVENT
BEGIN:VEVENT
DTSTART;TZID=America/Denver:20230514T180000
DTEND;TZID=America/Denver:20230514T190000
DTSTAMP:20260424T163200
CREATED:20210331T000434Z
LAST-MODIFIED:20210331T000434Z
UID:690816-1684087200-1684090800@commonstockwarrants.com
SUMMARY:SPAC Warrant Portfolio Review
DESCRIPTION:The weekly review of the SPAC Warrant Portfolio with Jeff Baker  \n\n\n\n(available with access to the SPAC Warrant Index)
URL:https://commonstockwarrants.com/event/spac-warrant-portfolio-review-2023-05-14/
CATEGORIES:SPAC Portfolio Review
ATTACH;FMTTYPE=image/png:https://commonstockwarrants.com/wp-content/uploads/2020/09/feature12.png
END:VEVENT
BEGIN:VEVENT
DTSTART;TZID=America/Denver:20230515T070000
DTEND;TZID=America/Denver:20230515T080000
DTSTAMP:20260424T163200
CREATED:20210330T024623Z
LAST-MODIFIED:20210330T024623Z
UID:690833-1684134000-1684137600@commonstockwarrants.com
SUMMARY:Morning Coffee
DESCRIPTION:Pre-Market Review of the SPAC Warrant Index and Market conditions for the day. General Commentary while drinking coffee. \nHosted by: Jeff Baker
URL:https://commonstockwarrants.com/event/morning-coffee-2023-05-15/
LOCATION:Common Stock Warrants\, United States
CATEGORIES:Morning Coffee
ATTACH;FMTTYPE=image/jpeg:https://commonstockwarrants.com/wp-content/uploads/2020/12/backgroundSubsNews.jpg
END:VEVENT
BEGIN:VEVENT
DTSTART;TZID=America/Denver:20230516T070000
DTEND;TZID=America/Denver:20230516T080000
DTSTAMP:20260424T163200
CREATED:20210330T024623Z
LAST-MODIFIED:20210330T024623Z
UID:690838-1684220400-1684224000@commonstockwarrants.com
SUMMARY:Morning Coffee
DESCRIPTION:Pre-Market Review of the SPAC Warrant Index and Market conditions for the day. General Commentary while drinking coffee. \nHosted by: Jeff Baker
URL:https://commonstockwarrants.com/event/morning-coffee-2023-05-16/
LOCATION:Common Stock Warrants\, United States
CATEGORIES:Morning Coffee
ATTACH;FMTTYPE=image/jpeg:https://commonstockwarrants.com/wp-content/uploads/2020/12/backgroundSubsNews.jpg
END:VEVENT
BEGIN:VEVENT
DTSTART;TZID=America/Denver:20230517T070000
DTEND;TZID=America/Denver:20230517T080000
DTSTAMP:20260424T163200
CREATED:20210330T024623Z
LAST-MODIFIED:20210330T024623Z
UID:690845-1684306800-1684310400@commonstockwarrants.com
SUMMARY:Morning Coffee
DESCRIPTION:Pre-Market Review of the SPAC Warrant Index and Market conditions for the day. General Commentary while drinking coffee. \nHosted by: Jeff Baker
URL:https://commonstockwarrants.com/event/morning-coffee-2023-05-17/
LOCATION:Common Stock Warrants\, United States
CATEGORIES:Morning Coffee
ATTACH;FMTTYPE=image/jpeg:https://commonstockwarrants.com/wp-content/uploads/2020/12/backgroundSubsNews.jpg
END:VEVENT
BEGIN:VEVENT
DTSTART;TZID=America/Denver:20230518T070000
DTEND;TZID=America/Denver:20230518T080000
DTSTAMP:20260424T163200
CREATED:20210330T024623Z
LAST-MODIFIED:20210330T024623Z
UID:690849-1684393200-1684396800@commonstockwarrants.com
SUMMARY:Morning Coffee
DESCRIPTION:Pre-Market Review of the SPAC Warrant Index and Market conditions for the day. General Commentary while drinking coffee. \nHosted by: Jeff Baker
URL:https://commonstockwarrants.com/event/morning-coffee-2023-05-18/
LOCATION:Common Stock Warrants\, United States
CATEGORIES:Morning Coffee
ATTACH;FMTTYPE=image/jpeg:https://commonstockwarrants.com/wp-content/uploads/2020/12/backgroundSubsNews.jpg
END:VEVENT
BEGIN:VEVENT
DTSTART;TZID=America/Denver:20230518T190000
DTEND;TZID=America/Denver:20230518T193000
DTSTAMP:20260424T163200
CREATED:20210330T235609Z
LAST-MODIFIED:20210330T235609Z
UID:690850-1684436400-1684438200@commonstockwarrants.com
SUMMARY:A Look Over My Shoulder -  Dudley's Portfolio
DESCRIPTION:Dudley Baker’s review of items of interest\, warrants\, mining\, and potential great opportunities. This is part of the Gold Members Subscription. Please follow the link below.
URL:https://commonstockwarrants.com/event/a-look-over-my-shoulder-dudleys-portfolio-2023-05-18/
CATEGORIES:Dudley's Portfolio
ATTACH;FMTTYPE=image/jpeg:https://commonstockwarrants.com/wp-content/uploads/2020/09/feature03-scaled.jpg
END:VEVENT
BEGIN:VEVENT
DTSTART;TZID=America/Denver:20230519T070000
DTEND;TZID=America/Denver:20230519T080000
DTSTAMP:20260424T163200
CREATED:20210330T024623Z
LAST-MODIFIED:20210330T024623Z
UID:690853-1684479600-1684483200@commonstockwarrants.com
SUMMARY:Morning Coffee
DESCRIPTION:Pre-Market Review of the SPAC Warrant Index and Market conditions for the day. General Commentary while drinking coffee. \nHosted by: Jeff Baker
URL:https://commonstockwarrants.com/event/morning-coffee-2023-05-19/
LOCATION:Common Stock Warrants\, United States
CATEGORIES:Morning Coffee
ATTACH;FMTTYPE=image/jpeg:https://commonstockwarrants.com/wp-content/uploads/2020/12/backgroundSubsNews.jpg
END:VEVENT
BEGIN:VEVENT
DTSTART;TZID=America/Denver:20230521T180000
DTEND;TZID=America/Denver:20230521T190000
DTSTAMP:20260424T163200
CREATED:20210331T000434Z
LAST-MODIFIED:20210331T000434Z
UID:690858-1684692000-1684695600@commonstockwarrants.com
SUMMARY:SPAC Warrant Portfolio Review
DESCRIPTION:The weekly review of the SPAC Warrant Portfolio with Jeff Baker  \n\n\n\n(available with access to the SPAC Warrant Index)
URL:https://commonstockwarrants.com/event/spac-warrant-portfolio-review-2023-05-21/
CATEGORIES:SPAC Portfolio Review
ATTACH;FMTTYPE=image/png:https://commonstockwarrants.com/wp-content/uploads/2020/09/feature12.png
END:VEVENT
BEGIN:VEVENT
DTSTART;TZID=America/Denver:20230522T070000
DTEND;TZID=America/Denver:20230522T080000
DTSTAMP:20260424T163200
CREATED:20210330T024623Z
LAST-MODIFIED:20210330T024623Z
UID:690874-1684738800-1684742400@commonstockwarrants.com
SUMMARY:Morning Coffee
DESCRIPTION:Pre-Market Review of the SPAC Warrant Index and Market conditions for the day. General Commentary while drinking coffee. \nHosted by: Jeff Baker
URL:https://commonstockwarrants.com/event/morning-coffee-2023-05-22/
LOCATION:Common Stock Warrants\, United States
CATEGORIES:Morning Coffee
ATTACH;FMTTYPE=image/jpeg:https://commonstockwarrants.com/wp-content/uploads/2020/12/backgroundSubsNews.jpg
END:VEVENT
BEGIN:VEVENT
DTSTART;TZID=America/Denver:20230523T070000
DTEND;TZID=America/Denver:20230523T080000
DTSTAMP:20260424T163200
CREATED:20210330T024623Z
LAST-MODIFIED:20210330T024623Z
UID:690880-1684825200-1684828800@commonstockwarrants.com
SUMMARY:Morning Coffee
DESCRIPTION:Pre-Market Review of the SPAC Warrant Index and Market conditions for the day. General Commentary while drinking coffee. \nHosted by: Jeff Baker
URL:https://commonstockwarrants.com/event/morning-coffee-2023-05-23/
LOCATION:Common Stock Warrants\, United States
CATEGORIES:Morning Coffee
ATTACH;FMTTYPE=image/jpeg:https://commonstockwarrants.com/wp-content/uploads/2020/12/backgroundSubsNews.jpg
END:VEVENT
BEGIN:VEVENT
DTSTART;TZID=America/Denver:20230524T070000
DTEND;TZID=America/Denver:20230524T080000
DTSTAMP:20260424T163200
CREATED:20210330T024623Z
LAST-MODIFIED:20210330T024623Z
UID:690881-1684911600-1684915200@commonstockwarrants.com
SUMMARY:Morning Coffee
DESCRIPTION:Pre-Market Review of the SPAC Warrant Index and Market conditions for the day. General Commentary while drinking coffee. \nHosted by: Jeff Baker
URL:https://commonstockwarrants.com/event/morning-coffee-2023-05-24/
LOCATION:Common Stock Warrants\, United States
CATEGORIES:Morning Coffee
ATTACH;FMTTYPE=image/jpeg:https://commonstockwarrants.com/wp-content/uploads/2020/12/backgroundSubsNews.jpg
END:VEVENT
BEGIN:VEVENT
DTSTART;TZID=America/Denver:20230525T070000
DTEND;TZID=America/Denver:20230525T080000
DTSTAMP:20260424T163200
CREATED:20210330T024623Z
LAST-MODIFIED:20210330T024623Z
UID:690886-1684998000-1685001600@commonstockwarrants.com
SUMMARY:Morning Coffee
DESCRIPTION:Pre-Market Review of the SPAC Warrant Index and Market conditions for the day. General Commentary while drinking coffee. \nHosted by: Jeff Baker
URL:https://commonstockwarrants.com/event/morning-coffee-2023-05-25/
LOCATION:Common Stock Warrants\, United States
CATEGORIES:Morning Coffee
ATTACH;FMTTYPE=image/jpeg:https://commonstockwarrants.com/wp-content/uploads/2020/12/backgroundSubsNews.jpg
END:VEVENT
BEGIN:VEVENT
DTSTART;TZID=America/Denver:20230525T190000
DTEND;TZID=America/Denver:20230525T193000
DTSTAMP:20260424T163200
CREATED:20210330T235609Z
LAST-MODIFIED:20210330T235609Z
UID:690887-1685041200-1685043000@commonstockwarrants.com
SUMMARY:A Look Over My Shoulder -  Dudley's Portfolio
DESCRIPTION:Dudley Baker’s review of items of interest\, warrants\, mining\, and potential great opportunities. This is part of the Gold Members Subscription. Please follow the link below.
URL:https://commonstockwarrants.com/event/a-look-over-my-shoulder-dudleys-portfolio-2023-05-25/
CATEGORIES:Dudley's Portfolio
ATTACH;FMTTYPE=image/jpeg:https://commonstockwarrants.com/wp-content/uploads/2020/09/feature03-scaled.jpg
END:VEVENT
BEGIN:VEVENT
DTSTART;TZID=America/Denver:20230526T070000
DTEND;TZID=America/Denver:20230526T080000
DTSTAMP:20260424T163200
CREATED:20210330T024623Z
LAST-MODIFIED:20210330T024623Z
UID:690894-1685084400-1685088000@commonstockwarrants.com
SUMMARY:Morning Coffee
DESCRIPTION:Pre-Market Review of the SPAC Warrant Index and Market conditions for the day. General Commentary while drinking coffee. \nHosted by: Jeff Baker
URL:https://commonstockwarrants.com/event/morning-coffee-2023-05-26/
LOCATION:Common Stock Warrants\, United States
CATEGORIES:Morning Coffee
ATTACH;FMTTYPE=image/jpeg:https://commonstockwarrants.com/wp-content/uploads/2020/12/backgroundSubsNews.jpg
END:VEVENT
BEGIN:VEVENT
DTSTART;TZID=America/Denver:20230528T180000
DTEND;TZID=America/Denver:20230528T190000
DTSTAMP:20260424T163200
CREATED:20210331T000434Z
LAST-MODIFIED:20210331T000434Z
UID:690895-1685296800-1685300400@commonstockwarrants.com
SUMMARY:SPAC Warrant Portfolio Review
DESCRIPTION:The weekly review of the SPAC Warrant Portfolio with Jeff Baker  \n\n\n\n(available with access to the SPAC Warrant Index)
URL:https://commonstockwarrants.com/event/spac-warrant-portfolio-review-2023-05-28/
CATEGORIES:SPAC Portfolio Review
ATTACH;FMTTYPE=image/png:https://commonstockwarrants.com/wp-content/uploads/2020/09/feature12.png
END:VEVENT
BEGIN:VEVENT
DTSTART;TZID=America/Denver:20230529T070000
DTEND;TZID=America/Denver:20230529T080000
DTSTAMP:20260424T163200
CREATED:20210330T024623Z
LAST-MODIFIED:20210330T024623Z
UID:690899-1685343600-1685347200@commonstockwarrants.com
SUMMARY:Morning Coffee
DESCRIPTION:Pre-Market Review of the SPAC Warrant Index and Market conditions for the day. General Commentary while drinking coffee. \nHosted by: Jeff Baker
URL:https://commonstockwarrants.com/event/morning-coffee-2023-05-29/
LOCATION:Common Stock Warrants\, United States
CATEGORIES:Morning Coffee
ATTACH;FMTTYPE=image/jpeg:https://commonstockwarrants.com/wp-content/uploads/2020/12/backgroundSubsNews.jpg
END:VEVENT
BEGIN:VEVENT
DTSTART;TZID=America/Denver:20230530T070000
DTEND;TZID=America/Denver:20230530T080000
DTSTAMP:20260424T163200
CREATED:20210330T024623Z
LAST-MODIFIED:20210330T024623Z
UID:690900-1685430000-1685433600@commonstockwarrants.com
SUMMARY:Morning Coffee
DESCRIPTION:Pre-Market Review of the SPAC Warrant Index and Market conditions for the day. General Commentary while drinking coffee. \nHosted by: Jeff Baker
URL:https://commonstockwarrants.com/event/morning-coffee-2023-05-30/
LOCATION:Common Stock Warrants\, United States
CATEGORIES:Morning Coffee
ATTACH;FMTTYPE=image/jpeg:https://commonstockwarrants.com/wp-content/uploads/2020/12/backgroundSubsNews.jpg
END:VEVENT
BEGIN:VEVENT
DTSTART;TZID=America/Denver:20230531T070000
DTEND;TZID=America/Denver:20230531T080000
DTSTAMP:20260424T163200
CREATED:20210330T024623Z
LAST-MODIFIED:20210330T024623Z
UID:690901-1685516400-1685520000@commonstockwarrants.com
SUMMARY:Morning Coffee
DESCRIPTION:Pre-Market Review of the SPAC Warrant Index and Market conditions for the day. General Commentary while drinking coffee. \nHosted by: Jeff Baker
URL:https://commonstockwarrants.com/event/morning-coffee-2023-05-31/
LOCATION:Common Stock Warrants\, United States
CATEGORIES:Morning Coffee
ATTACH;FMTTYPE=image/jpeg:https://commonstockwarrants.com/wp-content/uploads/2020/12/backgroundSubsNews.jpg
END:VEVENT
BEGIN:VEVENT
DTSTART;TZID=America/Denver:20230601T070000
DTEND;TZID=America/Denver:20230601T080000
DTSTAMP:20260424T163200
CREATED:20210330T024623Z
LAST-MODIFIED:20210330T024623Z
UID:690904-1685602800-1685606400@commonstockwarrants.com
SUMMARY:Morning Coffee
DESCRIPTION:Pre-Market Review of the SPAC Warrant Index and Market conditions for the day. General Commentary while drinking coffee. \nHosted by: Jeff Baker
URL:https://commonstockwarrants.com/event/morning-coffee-2023-06-01/
LOCATION:Common Stock Warrants\, United States
CATEGORIES:Morning Coffee
ATTACH;FMTTYPE=image/jpeg:https://commonstockwarrants.com/wp-content/uploads/2020/12/backgroundSubsNews.jpg
END:VEVENT
BEGIN:VEVENT
DTSTART;TZID=America/Denver:20230601T190000
DTEND;TZID=America/Denver:20230601T193000
DTSTAMP:20260424T163200
CREATED:20210330T235609Z
LAST-MODIFIED:20210330T235609Z
UID:690905-1685646000-1685647800@commonstockwarrants.com
SUMMARY:A Look Over My Shoulder -  Dudley's Portfolio
DESCRIPTION:Dudley Baker’s review of items of interest\, warrants\, mining\, and potential great opportunities. This is part of the Gold Members Subscription. Please follow the link below.
URL:https://commonstockwarrants.com/event/a-look-over-my-shoulder-dudleys-portfolio-2023-06-01/
CATEGORIES:Dudley's Portfolio
ATTACH;FMTTYPE=image/jpeg:https://commonstockwarrants.com/wp-content/uploads/2020/09/feature03-scaled.jpg
END:VEVENT
BEGIN:VEVENT
DTSTART;TZID=America/Denver:20230602T070000
DTEND;TZID=America/Denver:20230602T080000
DTSTAMP:20260424T163200
CREATED:20210330T024623Z
LAST-MODIFIED:20210330T024623Z
UID:690906-1685689200-1685692800@commonstockwarrants.com
SUMMARY:Morning Coffee
DESCRIPTION:Pre-Market Review of the SPAC Warrant Index and Market conditions for the day. General Commentary while drinking coffee. \nHosted by: Jeff Baker
URL:https://commonstockwarrants.com/event/morning-coffee-2023-06-02/
LOCATION:Common Stock Warrants\, United States
CATEGORIES:Morning Coffee
ATTACH;FMTTYPE=image/jpeg:https://commonstockwarrants.com/wp-content/uploads/2020/12/backgroundSubsNews.jpg
END:VEVENT
BEGIN:VEVENT
DTSTART;TZID=America/Denver:20230604T180000
DTEND;TZID=America/Denver:20230604T190000
DTSTAMP:20260424T163200
CREATED:20210331T000434Z
LAST-MODIFIED:20210331T000434Z
UID:690924-1685901600-1685905200@commonstockwarrants.com
SUMMARY:SPAC Warrant Portfolio Review
DESCRIPTION:The weekly review of the SPAC Warrant Portfolio with Jeff Baker  \n\n\n\n(available with access to the SPAC Warrant Index)
URL:https://commonstockwarrants.com/event/spac-warrant-portfolio-review-2023-06-04/
CATEGORIES:SPAC Portfolio Review
ATTACH;FMTTYPE=image/png:https://commonstockwarrants.com/wp-content/uploads/2020/09/feature12.png
END:VEVENT
BEGIN:VEVENT
DTSTART;TZID=America/Denver:20230605T070000
DTEND;TZID=America/Denver:20230605T080000
DTSTAMP:20260424T163200
CREATED:20210330T024623Z
LAST-MODIFIED:20210330T024623Z
UID:690937-1685948400-1685952000@commonstockwarrants.com
SUMMARY:Morning Coffee
DESCRIPTION:Pre-Market Review of the SPAC Warrant Index and Market conditions for the day. General Commentary while drinking coffee. \nHosted by: Jeff Baker
URL:https://commonstockwarrants.com/event/morning-coffee-2023-06-05/
LOCATION:Common Stock Warrants\, United States
CATEGORIES:Morning Coffee
ATTACH;FMTTYPE=image/jpeg:https://commonstockwarrants.com/wp-content/uploads/2020/12/backgroundSubsNews.jpg
END:VEVENT
END:VCALENDAR